BEGIN:VCALENDAR
VERSION:2.0
PRODID:-//EFCC - ECPv6.15.20//NONSGML v1.0//EN
CALSCALE:GREGORIAN
METHOD:PUBLISH
X-ORIGINAL-URL:https://efcc.ca
X-WR-CALDESC:Events for EFCC
REFRESH-INTERVAL;VALUE=DURATION:PT1H
X-Robots-Tag:noindex
X-PUBLISHED-TTL:PT1H
BEGIN:VTIMEZONE
TZID:America/Los_Angeles
BEGIN:DAYLIGHT
TZOFFSETFROM:-0800
TZOFFSETTO:-0700
TZNAME:PDT
DTSTART:20250309T100000
END:DAYLIGHT
BEGIN:STANDARD
TZOFFSETFROM:-0700
TZOFFSETTO:-0800
TZNAME:PST
DTSTART:20251102T090000
END:STANDARD
BEGIN:DAYLIGHT
TZOFFSETFROM:-0800
TZOFFSETTO:-0700
TZNAME:PDT
DTSTART:20260308T100000
END:DAYLIGHT
BEGIN:STANDARD
TZOFFSETFROM:-0700
TZOFFSETTO:-0800
TZNAME:PST
DTSTART:20261101T090000
END:STANDARD
BEGIN:DAYLIGHT
TZOFFSETFROM:-0800
TZOFFSETTO:-0700
TZNAME:PDT
DTSTART:20270314T100000
END:DAYLIGHT
BEGIN:STANDARD
TZOFFSETFROM:-0700
TZOFFSETTO:-0800
TZNAME:PST
DTSTART:20271107T090000
END:STANDARD
END:VTIMEZONE
BEGIN:VEVENT
DTSTART;TZID=America/Los_Angeles:20260322T000000
DTEND;TZID=America/Los_Angeles:20260331T235900
DTSTAMP:20260422T032129
CREATED:20260226T165045Z
LAST-MODIFIED:20260226T182648Z
UID:48399-1774137600-1775001540@efcc.ca
SUMMARY:Part 4 - The Joy of Confession
DESCRIPTION:“Oh\, what joy for those whose disobedience is forgiven\, whose sin is put out of sight! When I refused to confess my sin\, my body wasted away\, and I groaned all day long. Finally\, I confessed all my sins to you and stopped trying to hide my guilt. I said to myself\, “I will confess my rebellion to the Lord.” And you forgave me! All my guilt is gone. Therefore\, let all the godly pray to you while there is still time…” (taken from Psalm 32:1-6) \n\nWe are now doing video intros for the Prayer Guide! To watch this month’s Prayer intro\, click here. \nLet us pray for all our ServeBeyond/ServeCanada Missionaries & Agents:\nDan Byrne – Ottawa Evangelism Partnership \nPraise God for Spirit-led unity after the recent Connecting Streams retreat\, and pray for wisdom as the ministry adds regional staff and re-envisions city ministry during this season of prayer and fasting. Pray for open doors in Ottawa among seniors\, newcomers\, and those in low-income housing – asking God to provide the right staff and funding. Lift up Dan and Jean for healing\, clarity\, and renewed vision for their house church network amid health challenges\, and for discernment as Dan walks with a church-planting group facing leadership concerns—asking God for truth\, repentance\, and restoration. Finally\, pray for Dan’s continued recovery\, Jean’s spiritual\, emotional\, and physical renewal in ministry\, their children’s faith\, and sustainable financial support. \n\nHelen Blackburn – Bolivia \nPraise the Lord for His presence in my life! This year\, I will retire from my work here in Bolivia. Please pray for the completion of the sale of my house and property\, as this will not be completed until the final papers are signed by Hans Byren\, who sold me the land. I am not Bolivian and cannot “own” Property unless it is in the city. Please continue to pray for El Candelero Kids and Heather\, our national workers\, the Boys’ Home\, Support Centre and my English classes. May our outreach be blessed by God. \n\nSammy Kabyemera – Uganda \nPraise that the Team is faithfully making disciples\, and that many who believed during the last mission trip have now been baptized. The bicycles given to two pastors are strengthening their outreach and ministry. Please pray for Sammy’s preparation for the next mission to Uganda’s refugee camps and schools—equipping believers\, distributing Bibles\, providing bicycles\, developing discipleship resources\, and planting a church. Pray also for faithful prayer partners and supporters. \n\nStephen & Jane Wheeler – Montréal \nPlease pray for the March 20-21st training for users of The Journey that Jane and I will be helping to teach. Please pray for journey mercies and fruitful interactions with people during our upcoming month of travel. \n\nRobert & Leslee Oudman – Nicaragua \nPlease pray for clarity as we review the work and statistics of the past year. Pray we are effective with the resources God provides and that we make decisions according to His will\, decisions that will please the Lord and expand His kingdom. Pray that following a series of pastoral training workshops in February\, the pastors and I will know how to best grow the church\, his body of believers\, in rural Nicaragua. \n\nSiavosh & Sophia – Ontario \nPlease pray for Iranians who have lost their loved ones. For Christians in Iran to be a light amid darkness. For God to choose the best leader or Government for the future of Iran. Please pray for people who have experienced abuse and harm in Iran. \n\nJoy – Creative Access Country \nPlease pray for the upcoming Easter fundraiser in March to help the poor people in Egypt. This fundraiser is harder than usual because of the rising prices in Egypt. Please pray for the people affected by the bad economy in Egypt. \n\nScott & Karen Wind Vandenberg – Mexico \nPlease pray for the residents and staff of El Buen Samaritano Seniors Home. Ask God to grant strength\, patience\, and compassion to caregivers\, and comfort\, dignity\, and peace to each resident. Pray for good health\, emotional encouragement\, and meaningful connections in daily life. May this home be filled with Christ’s presence\, protection\, and practical provision for every need. \n\nChildren’s Shelter of Cebu \nA newborn baby named Catherine was referred to the Shelter. Pray with us that we can be used by God to share His love with this precious child and care for her in a way that honours and glorifies Him! Please pray for two more newborn babies who have been referred to CSC. They were abandoned\, left with their umbilical cords still attached\, by City Hall and the local Department of Social Welfare and Development. \n\nEvangelical Theological College of the Philippines \nPray for the graduation ceremonies of elementary\, junior high and college students. For President Gabutan\, as he speaks. For more enrollees for academic year 26-27; for incoming freshmen; for more library books and materials\, and for building repairs. \n\nEvangelical Free Church of the Philippines \nPray for President Ariel Jornales and his leadership.
URL:https://efcc.ca/event/the-joy-of-confession-4/
CATEGORIES:Prayer Guide (Monthly)
ATTACH;FMTTYPE=image/jpeg:https://efcc.ca/wp-content/uploads/2026/02/March-Prayer-guide-banner-2026-1030x576px-4-1.jpg
END:VEVENT
END:VCALENDAR