BEGIN:VCALENDAR
VERSION:2.0
PRODID:-//EFCC - ECPv6.15.20//NONSGML v1.0//EN
CALSCALE:GREGORIAN
METHOD:PUBLISH
X-WR-CALNAME:EFCC
X-ORIGINAL-URL:https://efcc.ca
X-WR-CALDESC:Events for EFCC
REFRESH-INTERVAL;VALUE=DURATION:PT1H
X-Robots-Tag:noindex
X-PUBLISHED-TTL:PT1H
BEGIN:VTIMEZONE
TZID:America/Los_Angeles
BEGIN:DAYLIGHT
TZOFFSETFROM:-0800
TZOFFSETTO:-0700
TZNAME:PDT
DTSTART:20250309T100000
END:DAYLIGHT
BEGIN:STANDARD
TZOFFSETFROM:-0700
TZOFFSETTO:-0800
TZNAME:PST
DTSTART:20251102T090000
END:STANDARD
BEGIN:DAYLIGHT
TZOFFSETFROM:-0800
TZOFFSETTO:-0700
TZNAME:PDT
DTSTART:20260308T100000
END:DAYLIGHT
BEGIN:STANDARD
TZOFFSETFROM:-0700
TZOFFSETTO:-0800
TZNAME:PST
DTSTART:20261101T090000
END:STANDARD
BEGIN:DAYLIGHT
TZOFFSETFROM:-0800
TZOFFSETTO:-0700
TZNAME:PDT
DTSTART:20270314T100000
END:DAYLIGHT
BEGIN:STANDARD
TZOFFSETFROM:-0700
TZOFFSETTO:-0800
TZNAME:PST
DTSTART:20271107T090000
END:STANDARD
END:VTIMEZONE
BEGIN:VEVENT
DTSTART;TZID=America/Los_Angeles:20260208T000000
DTEND;TZID=America/Los_Angeles:20260214T235900
DTSTAMP:20260422T055735
CREATED:20260127T180255Z
LAST-MODIFIED:20260127T190343Z
UID:47926-1770508800-1771113540@efcc.ca
SUMMARY:Part 2 - The Love Month
DESCRIPTION:“Love never gives up\, never loses faith\, is always hopeful\, and endures through every circumstance.” (I Cor. 13:7)\n“Love each other. Just as I have loved you\, you should love each other. Your love for one another will prove to the world that you are my disciples.” (John 13:34-35) \n\nWe are now doing video intros for the Prayer Guide! To watch this month’s Prayer intro\, click here. \nLet us pray for all our EFCC Leaders:\nNeil Bassingthwaighte – ServeCanada Director\nPray for missionaries who are struggling with personal and family issues. These types of issues take so much time\, care\, and energy. Pray that their hearts and minds would be renewed by God’s Spirit. Pray for our EFCC leaders as they spend time together this month\, in prayer and seeking where God is taking our Free Church family. Pray for me as I prepare for speaking engagements. \n\nShaun Wick – President\nPray for wisdom\, protection\, and fruitful travel as I represent the EFCC in Canada and internationally. Pray for provision for churches seeking pastors or ministry staff\, and for a growing burden to share the Gospel and pray for one another. Pray that the Lord would raise up younger generations who love Jesus and serve His church\, and for revival in our churches with Christ at the center of all things. As EFCC leadership meets this month\, pray for wisdom and clear discernment of the Holy Spirit. Praise God for encouraging reports of people coming to faith and growing in their walk with the Lord! \n\nTerry Kaufman – Leadership Catalyst\nAs we enter into the second month of 2026\, the biggest item on the agenda for me is our upcoming Leadership Week. Please pray with me for a productive and positive time together with the majority of the key leaders of the EFCC. Additionally\, please be in prayer with us as we work on a schedule for a number of Leadership Training events. Also\, please pray for ProjectLead\, our new campaign to help facilitate healthy leadership development. Thanks for praying with us as we continue to give focus to leadership development in the EFCC.
URL:https://efcc.ca/event/the-love-month-2/
CATEGORIES:Prayer Guide (Monthly)
ATTACH;FMTTYPE=image/jpeg:https://efcc.ca/wp-content/uploads/2026/01/Feb-Prayer-guide-banner-2026-1030x576px-2.jpg
END:VEVENT
END:VCALENDAR