BEGIN:VCALENDAR
VERSION:2.0
PRODID:-//EFCC - ECPv6.15.20//NONSGML v1.0//EN
CALSCALE:GREGORIAN
METHOD:PUBLISH
X-WR-CALNAME:EFCC
X-ORIGINAL-URL:https://efcc.ca
X-WR-CALDESC:Events for EFCC
REFRESH-INTERVAL;VALUE=DURATION:PT1H
X-Robots-Tag:noindex
X-PUBLISHED-TTL:PT1H
BEGIN:VTIMEZONE
TZID:America/Los_Angeles
BEGIN:DAYLIGHT
TZOFFSETFROM:-0800
TZOFFSETTO:-0700
TZNAME:PDT
DTSTART:20240310T100000
END:DAYLIGHT
BEGIN:STANDARD
TZOFFSETFROM:-0700
TZOFFSETTO:-0800
TZNAME:PST
DTSTART:20241103T090000
END:STANDARD
BEGIN:DAYLIGHT
TZOFFSETFROM:-0800
TZOFFSETTO:-0700
TZNAME:PDT
DTSTART:20250309T100000
END:DAYLIGHT
BEGIN:STANDARD
TZOFFSETFROM:-0700
TZOFFSETTO:-0800
TZNAME:PST
DTSTART:20251102T090000
END:STANDARD
BEGIN:DAYLIGHT
TZOFFSETFROM:-0800
TZOFFSETTO:-0700
TZNAME:PDT
DTSTART:20260308T100000
END:DAYLIGHT
BEGIN:STANDARD
TZOFFSETFROM:-0700
TZOFFSETTO:-0800
TZNAME:PST
DTSTART:20261101T090000
END:STANDARD
END:VTIMEZONE
BEGIN:VEVENT
DTSTART;TZID=America/Los_Angeles:20251208T000000
DTEND;TZID=America/Los_Angeles:20251214T235900
DTSTAMP:20260422T085132
CREATED:20251126T163746Z
LAST-MODIFIED:20251126T163746Z
UID:47289-1765152000-1765756740@efcc.ca
SUMMARY:Part 2 - Endings & Beginnings
DESCRIPTION:“For to us a chid is born\, to us a son is given; and the government shall be upon his shoulder\, and his name shall be called Wonderful Counselor\, Mighty God\, Everlasting Father\, Prince of Peace.” (Isaiah 9:6) \n\nWe are now doing video intros for the Prayer Guide! To watch this month’s Prayer intro\, click here. \nLet us pray for all our EFCC Districts Churches/Leaders and ServeCanada/ServeBeyond Missionaries & Agents:\nAlberta Parkland District:\nBezanson Community Church – Greg Clairmont \nBig Valley EFC – Allan Clark \nBon Accord Community Church \nClairmont Community Church \n\nCanadian Pacific District:\nChurch of the Way – Rob Wiebe \nDawson Community Chapel – Matthew Stobbe \nEFC of Goodlow \n\nCentral District:\nEFC of Carberry – Joel Friesen \nEmmanuel EFC – Kent Martens \nFaith EFC – David Lam \n\nLower Pacific District:\nCoquitlam Chinese EFC – Ranjith Perera \nCross Fellowship – Hong Gun Lee \nEikon Community Church – Kevin and Carolyn Her \nFort Langley EFC – Jason Lavergne \nGrace Community EFC – Colin Peters \n\nPrairie District:\nCalgary Chinese EFC – Lorne Trudgian & Anthony Miu \nCarnduff Gospel Fellowship – Greg Good \nCentral Calgary EFC – Iris Butt-Lau \nCompass Fellowship – Marshall Banting \nCornerstone Community Church – Daniel Warne \n\nServeBeyond/ServeCanada Missionaries & Agents:\n• Helen Blackburn\n• John & Naomi Hall\n• Jon & Laura Prins\n• Joy
URL:https://efcc.ca/event/endings-and-beginnings-2/
CATEGORIES:Prayer Guide (Monthly)
ATTACH;FMTTYPE=image/jpeg:https://efcc.ca/wp-content/uploads/2025/11/Dec-Jan-Prayer-guide-banner-2025-2026-724x405px-2.jpg
END:VEVENT
END:VCALENDAR