BEGIN:VCALENDAR
VERSION:2.0
PRODID:-//EFCC - ECPv6.15.20//NONSGML v1.0//EN
CALSCALE:GREGORIAN
METHOD:PUBLISH
X-WR-CALNAME:EFCC
X-ORIGINAL-URL:https://efcc.ca
X-WR-CALDESC:Events for EFCC
REFRESH-INTERVAL;VALUE=DURATION:PT1H
X-Robots-Tag:noindex
X-PUBLISHED-TTL:PT1H
BEGIN:VTIMEZONE
TZID:America/Los_Angeles
BEGIN:DAYLIGHT
TZOFFSETFROM:-0800
TZOFFSETTO:-0700
TZNAME:PDT
DTSTART:20240310T100000
END:DAYLIGHT
BEGIN:STANDARD
TZOFFSETFROM:-0700
TZOFFSETTO:-0800
TZNAME:PST
DTSTART:20241103T090000
END:STANDARD
BEGIN:DAYLIGHT
TZOFFSETFROM:-0800
TZOFFSETTO:-0700
TZNAME:PDT
DTSTART:20250309T100000
END:DAYLIGHT
BEGIN:STANDARD
TZOFFSETFROM:-0700
TZOFFSETTO:-0800
TZNAME:PST
DTSTART:20251102T090000
END:STANDARD
BEGIN:DAYLIGHT
TZOFFSETFROM:-0800
TZOFFSETTO:-0700
TZNAME:PDT
DTSTART:20260308T100000
END:DAYLIGHT
BEGIN:STANDARD
TZOFFSETFROM:-0700
TZOFFSETTO:-0800
TZNAME:PST
DTSTART:20261101T090000
END:STANDARD
END:VTIMEZONE
BEGIN:VEVENT
DTSTART;TZID=America/Los_Angeles:20251201T000000
DTEND;TZID=America/Los_Angeles:20251207T235900
DTSTAMP:20260422T085212
CREATED:20251126T163745Z
LAST-MODIFIED:20251126T163745Z
UID:47272-1764547200-1765151940@efcc.ca
SUMMARY:Part 1 - Endings & Beginnings
DESCRIPTION:“For to us a chid is born\, to us a son is given; and the government shall be upon his shoulder\, and his name shall be called Wonderful Counselor\, Mighty God\, Everlasting Father\, Prince of Peace.” (Isaiah 9:6) \n\nWe are now doing video intros for the Prayer Guide! To watch this month’s Prayer intro\, click here. \nLet us pray for all our EFCC Districts Churches & Personnel and ServeCanada/ServeBeyond Missionaries & Agents:\nAlberta Parkland District:\nAlix EFC – Gordon Schmidt \nBeach Corner EFC – Chris Coulstring \nBethel Union Church – Iran Pedraza \n\nCanadian Pacific District:\n100 Mile House EFC – Matt Fast \nBroadview EFC – Lawrence Jensen \nChase EFC – Tyler Harper \n\nCentral District:\nAll People’s Church – Bill Ehlers \nBarwick Community Church \nBayview EFC – Richard and Judy Gilbert \n\nLower Pacific District:\nAbbotsford Vision Church – Gilmo Hwang \nBurnaby Chinese EFC – Pastoral Team \nBurnaby Mountain Fellowship – Hodong Daniel Kwon \nCentral EFC of Comox Valley – Carel Cloete \nChrist Community Church of Ucluelet – Elder Team \n\nPrairie District:\nBethel EFC – Scott Crawford \nBow Island EFC – George Mills \nBrooks EFC – Jon Chalmers \nBuffalo Narrows Community Fellowship Church Inc. – Tony Kusch \n\nServeBeyond/ServeCanada Missionaries & Agents:\n• Arvid Olson\n• Dan & Liz Smith\n• David & Lina
URL:https://efcc.ca/event/endings-and-beginnings-1/
CATEGORIES:Prayer Guide (Monthly)
ATTACH;FMTTYPE=image/jpeg:https://efcc.ca/wp-content/uploads/2025/11/Dec-Jan-Prayer-guide-banner-2025-2026-724x405px-1.jpg
END:VEVENT
END:VCALENDAR