BEGIN:VCALENDAR
VERSION:2.0
PRODID:-//EFCC - ECPv6.15.20//NONSGML v1.0//EN
CALSCALE:GREGORIAN
METHOD:PUBLISH
X-WR-CALNAME:EFCC
X-ORIGINAL-URL:https://efcc.ca
X-WR-CALDESC:Events for EFCC
REFRESH-INTERVAL;VALUE=DURATION:PT1H
X-Robots-Tag:noindex
X-PUBLISHED-TTL:PT1H
BEGIN:VTIMEZONE
TZID:America/Los_Angeles
BEGIN:DAYLIGHT
TZOFFSETFROM:-0800
TZOFFSETTO:-0700
TZNAME:PDT
DTSTART:20240310T100000
END:DAYLIGHT
BEGIN:STANDARD
TZOFFSETFROM:-0700
TZOFFSETTO:-0800
TZNAME:PST
DTSTART:20241103T090000
END:STANDARD
BEGIN:DAYLIGHT
TZOFFSETFROM:-0800
TZOFFSETTO:-0700
TZNAME:PDT
DTSTART:20250309T100000
END:DAYLIGHT
BEGIN:STANDARD
TZOFFSETFROM:-0700
TZOFFSETTO:-0800
TZNAME:PST
DTSTART:20251102T090000
END:STANDARD
BEGIN:DAYLIGHT
TZOFFSETFROM:-0800
TZOFFSETTO:-0700
TZNAME:PDT
DTSTART:20260308T100000
END:DAYLIGHT
BEGIN:STANDARD
TZOFFSETFROM:-0700
TZOFFSETTO:-0800
TZNAME:PST
DTSTART:20261101T090000
END:STANDARD
END:VTIMEZONE
BEGIN:VEVENT
DTSTART;TZID=America/Los_Angeles:20251122T000000
DTEND;TZID=America/Los_Angeles:20251130T235900
DTSTAMP:20260422T085213
CREATED:20251023T181526Z
LAST-MODIFIED:20251023T203418Z
UID:46919-1763769600-1764547140@efcc.ca
SUMMARY:Part 4 - Prayer: An Act of Remembrance
DESCRIPTION:“Every time I think of you\, I give thanks to my God. Whenever I pray\, I make my requests for all of you with joy\, for you have been my partners in spreading the Good News about Christ from the time you first heard it until now.” (Philippians 1:3-5) \n\nWe are now doing video intros for the Prayer Guide! To watch this month’s Prayer intro\, click here. \nLet us pray for all our EFCC Churches and Church Plants/Planters:\nThe Holy One Community Church\nWe thank God for His faithfulness in our first VBS and for opening doors for global mission partnership. Please pray that our church will grow in unity and mission\, shining Christ’s love in our neighborhood and beyond. \n\nManitou Evangelical Free Church\nThough still looking for a pastor\, Manitou had sixteen baptisms this past month. God is at work. Half were through an Alpha program they ran. Praise the Lord. \n\nChurch Plants/Planters\n• All The Nations (Wembley) – Dwight Munn`\n• Compass Community (Scarborough) – Kelvin Fung\n• Iranian Church of Newmarket – Siavosh\n• Just Church (Scarborough) – Tim Quek\n• Sonflower (Burnaby) – David Hong\n• Wayside Crossing (Osoyoos) – Dan Williams\n• Monterey Park (Calgary) – Amir Younas
URL:https://efcc.ca/event/act-of-remembrance-4/
CATEGORIES:Prayer Guide (Monthly)
ATTACH;FMTTYPE=image/jpeg:https://efcc.ca/wp-content/uploads/2025/10/Nov-Prayer-guide-banner-2025-724x405px-4-1.jpg
END:VEVENT
END:VCALENDAR