BEGIN:VCALENDAR
VERSION:2.0
PRODID:-//EFCC - ECPv6.15.20//NONSGML v1.0//EN
CALSCALE:GREGORIAN
METHOD:PUBLISH
X-WR-CALNAME:EFCC
X-ORIGINAL-URL:https://efcc.ca
X-WR-CALDESC:Events for EFCC
REFRESH-INTERVAL;VALUE=DURATION:PT1H
X-Robots-Tag:noindex
X-PUBLISHED-TTL:PT1H
BEGIN:VTIMEZONE
TZID:America/Los_Angeles
BEGIN:DAYLIGHT
TZOFFSETFROM:-0800
TZOFFSETTO:-0700
TZNAME:PDT
DTSTART:20240310T100000
END:DAYLIGHT
BEGIN:STANDARD
TZOFFSETFROM:-0700
TZOFFSETTO:-0800
TZNAME:PST
DTSTART:20241103T090000
END:STANDARD
BEGIN:DAYLIGHT
TZOFFSETFROM:-0800
TZOFFSETTO:-0700
TZNAME:PDT
DTSTART:20250309T100000
END:DAYLIGHT
BEGIN:STANDARD
TZOFFSETFROM:-0700
TZOFFSETTO:-0800
TZNAME:PST
DTSTART:20251102T090000
END:STANDARD
BEGIN:DAYLIGHT
TZOFFSETFROM:-0800
TZOFFSETTO:-0700
TZNAME:PDT
DTSTART:20260308T100000
END:DAYLIGHT
BEGIN:STANDARD
TZOFFSETFROM:-0700
TZOFFSETTO:-0800
TZNAME:PST
DTSTART:20261101T090000
END:STANDARD
END:VTIMEZONE
BEGIN:VEVENT
DTSTART;TZID=America/Los_Angeles:20251108T000000
DTEND;TZID=America/Los_Angeles:20251114T235900
DTSTAMP:20260425T045940
CREATED:20251023T181522Z
LAST-MODIFIED:20251023T203506Z
UID:46911-1762560000-1763164740@efcc.ca
SUMMARY:Part 2 - Prayer: An Act of Remembrance
DESCRIPTION:“Every time I think of you\, I give thanks to my God. Whenever I pray\, I make my requests for all of you with joy\, for you have been my partners in spreading the Good News about Christ from the time you first heard it until now.” (Philippians 1:3-5) \n\nWe are now doing video intros for the Prayer Guide! To watch this month’s Prayer intro\, click here. \nLet us pray for all our EFCC Leaders & CAF Chaplains:\nShaun Wick – President\nPlease pray for wisdom as I continue transitioning into the role of President\, and for Julia and me during this busy travel season. Pray for our EFCC churches to grow in unity\, for an awakening among our young people\, and for God to raise up a new generation of pastors and missionaries. Pray also for encouragement for those currently serving. Praise God for the excitement and anticipation I’ve seen across the districts\, for the powerful ways He is at work\, and for the continued faithfulness of our pastors and missionaries. \n\nNeil Bassingthwaighte – ServeCanada Director\nPraise for a great time of connecting with people at the three district conferences last month. Neil is taking a couple of weeks of holidays this month. Pray for rest\, relaxation\, and renewal for him and Henrietta as they are away. \n\nCAF Chaplains\nPray for those serving as chaplains in the Canadian Armed Forces:\n• Peter Han – Esquimalt\, BC\n• Chris Willis – Kingston\, ON\n• Phil Sung – Halifax\, NS
URL:https://efcc.ca/event/act-of-remembrance-2/
CATEGORIES:Prayer Guide (Monthly)
ATTACH;FMTTYPE=image/jpeg:https://efcc.ca/wp-content/uploads/2025/10/Nov-Prayer-guide-banner-2025-724x405px-2-1.jpg
END:VEVENT
END:VCALENDAR