BEGIN:VCALENDAR
VERSION:2.0
PRODID:-//EFCC - ECPv6.15.20//NONSGML v1.0//EN
CALSCALE:GREGORIAN
METHOD:PUBLISH
X-ORIGINAL-URL:https://efcc.ca
X-WR-CALDESC:Events for EFCC
REFRESH-INTERVAL;VALUE=DURATION:PT1H
X-Robots-Tag:noindex
X-PUBLISHED-TTL:PT1H
BEGIN:VTIMEZONE
TZID:America/Los_Angeles
BEGIN:DAYLIGHT
TZOFFSETFROM:-0800
TZOFFSETTO:-0700
TZNAME:PDT
DTSTART:20250309T100000
END:DAYLIGHT
BEGIN:STANDARD
TZOFFSETFROM:-0700
TZOFFSETTO:-0800
TZNAME:PST
DTSTART:20251102T090000
END:STANDARD
BEGIN:DAYLIGHT
TZOFFSETFROM:-0800
TZOFFSETTO:-0700
TZNAME:PDT
DTSTART:20260308T100000
END:DAYLIGHT
BEGIN:STANDARD
TZOFFSETFROM:-0700
TZOFFSETTO:-0800
TZNAME:PST
DTSTART:20261101T090000
END:STANDARD
BEGIN:DAYLIGHT
TZOFFSETFROM:-0800
TZOFFSETTO:-0700
TZNAME:PDT
DTSTART:20270314T100000
END:DAYLIGHT
BEGIN:STANDARD
TZOFFSETFROM:-0700
TZOFFSETTO:-0800
TZNAME:PST
DTSTART:20271107T090000
END:STANDARD
END:VTIMEZONE
BEGIN:VEVENT
DTSTART;TZID=America/Los_Angeles:20260101T000000
DTEND;TZID=America/Los_Angeles:20260107T235900
DTSTAMP:20260422T055656
CREATED:20251126T163751Z
LAST-MODIFIED:20251126T163751Z
UID:47297-1767225600-1767830340@efcc.ca
SUMMARY:Part 5 - Endings & Beginnings
DESCRIPTION:“For to us a chid is born\, to us a son is given; and the government shall be upon his shoulder\, and his name shall be called Wonderful Counselor\, Mighty God\, Everlasting Father\, Prince of Peace.” (Isaiah 9:6) \n\nWe are now doing video intros for the Prayer Guide! To watch this month’s Prayer intro\, click here. \nLet us pray for all our EFCC Districts Churches/Leaders and ServeCanada/ServeBeyond Missionaries & Agents:\nAlberta Parkland District:\nEFC of Onoway – David Kenney \nEFC of Wainwright \nElk Point Christian Community Church \n\nCanadian Pacific District:\nNicola Valley EFC – Dan Sczebel \nNorth Shuswap Christian Fellowship – Scott Ross \nPrince George EFC – Ernest Romanchik \n\nCentral District:\nInternational Christian Fellowship EFC – Len Friesen \nIranian Church of Richmond Hill – Siavosh Sadeghi \nIranian Church of Newmarket – Arash Fard \n\nLower Pacific District:\nNanoose Evangelical Free Church – Rick McAllister \nNew Living Assembly – Noel Macasaet \nNew Westminster EFC – Jorge Lin \nNorthside Community Church – Sam Seifert \nOne Hope Community – Daniel Sungbum So \nParkdale EFC – Tim Stewart \n\nPrairie District:\nFirst Evangelical Free Church – Clinton Cesar \nForemost EFC – Brent Deering \nLashburn Community Church – Glenn Gerbrandt \nManitou EFC \n\nServeBeyond/ServeCanada Missionaries & Agents:\n• Robert & Leslee Oudman\n• Russell Jackson\n• Sammy Kabyemera
URL:https://efcc.ca/event/endings-and-beginnings-5/
CATEGORIES:Prayer Guide (Monthly)
ATTACH;FMTTYPE=image/jpeg:https://efcc.ca/wp-content/uploads/2025/11/Dec-Jan-Prayer-guide-banner-2025-2026-724x405px-5.jpg
END:VEVENT
BEGIN:VEVENT
DTSTART;TZID=America/Los_Angeles:20260108T000000
DTEND;TZID=America/Los_Angeles:20260114T235900
DTSTAMP:20260422T055656
CREATED:20251126T163753Z
LAST-MODIFIED:20251126T163753Z
UID:47303-1767830400-1768435140@efcc.ca
SUMMARY:Part 6 - Endings & Beginnings
DESCRIPTION:“For to us a chid is born\, to us a son is given; and the government shall be upon his shoulder\, and his name shall be called Wonderful Counselor\, Mighty God\, Everlasting Father\, Prince of Peace.” (Isaiah 9:6) \n\nWe are now doing video intros for the Prayer Guide! To watch this month’s Prayer intro\, click here. \nLet us pray for all our EFCC Districts Churches/Leaders and ServeCanada/ServeBeyond Missionaries & Agents:\nAlberta Parkland District:\nFox Creek EFC \nGrace Bible Fellowship – Andrew Wilson \nGrace Evangelical Church – John Tse \nGrace Gospel Chapel of Spirit River – Wes Brown \n\nCanadian Pacific District:\nPritchard EFC \nSage Hills EFC – Paul Ford \n\nCentral District:\nMaranatha EFC – David Friesen \nMetro Chinese Christian Mission – Huckle Choi (Interim) \nOttawa Chinese Bible Church – Yang [David] Pan \n\nLower Pacific District:\nQuadra Island Bible Church – David Koleba \nRichmond Chinese EFC – Philip Leung (Interim) \nSewooshin Sungkyul – Young Jin Song \nSointula Community Church – Ben Crumback \nSonflower Community Church – Taehwan David Hong \n\nPrairie District:\nMont Nebo EFC – Bill Klumpenhower \nMonterey Park EFC – Amir Younas \nMount Olive Evangelical Free Church – Alvin Bueckert & Paris Perry \nNew Life EFC – Hong Qi Hao \nNortheast Calgary EFC – Cecilia Wong-Po \n\nServeBeyond/ServeCanada Missionaries & Agents:\n• Scott & Shannon Crawford\n• Stephen Leung\n• Stephen Wheeler\n• Dan Byrne
URL:https://efcc.ca/event/endings-and-beginnings-6/
CATEGORIES:Prayer Guide (Monthly)
ATTACH;FMTTYPE=image/jpeg:https://efcc.ca/wp-content/uploads/2025/11/Dec-Jan-Prayer-guide-banner-2025-2026-724x405px-6.jpg
END:VEVENT
BEGIN:VEVENT
DTSTART;TZID=America/Los_Angeles:20260115T000000
DTEND;TZID=America/Los_Angeles:20260121T235900
DTSTAMP:20260422T055656
CREATED:20251126T163756Z
LAST-MODIFIED:20251126T163756Z
UID:47306-1768435200-1769039940@efcc.ca
SUMMARY:Part 7 - Endings & Beginnings
DESCRIPTION:“For to us a chid is born\, to us a son is given; and the government shall be upon his shoulder\, and his name shall be called Wonderful Counselor\, Mighty God\, Everlasting Father\, Prince of Peace.” (Isaiah 9:6) \n\nWe are now doing video intros for the Prayer Guide! To watch this month’s Prayer intro\, click here. \nLet us pray for all our EFCC Districts Churches/Leaders and ServeCanada/ServeBeyond Missionaries & Agents:\nAlberta Parkland District:\nHigh Level Evangelical Church – Micah Quantz \nHighland Park EFC – Paul Warnock \nHilltop Community Church – Chris Millington \nKnox EFC – Doug Holtby \nLacombe EFC – Dan Berger \n\nCanadian Pacific District:\nThe Gospel Chapel- Chris Solberg \nWayside Crossing – Dan Williams \nWilliams Lake EFC – Trevor Hagan  \n\nCentral District:\nPathway Community Church – Rob Haslam \nRedeemer Chinese EFC – Jie [Jacky] Li \nServing Beyond Fences – David Jin Kwon Yang \n\nLower Pacific District:\nTEBAH Church – Shin Hwang \nThe Church of the Sent for Life Proclamation – Namgyu Lee \nThe Rock Christian – Fellowship – Elder Team \nTown + Field – Joe Jung \nVancouver Chinese EFC – Pastoral Team \n\nPrairie District:\nOkotoks EFC – Rob Cave & Trevor Brawdy \nOrion EFC – Matthieu Howard \nOsler Community Church – Laurence Johnston \nParkland EFC – Stephen Ruten \n\nServeBeyond/ServeCanada Missionaries & Agents:\n• Chris Yu\n• Francois Bergeron\n• Jonathan & Ashleigh Declet
URL:https://efcc.ca/event/endings-and-beginnings-7/
CATEGORIES:Prayer Guide (Monthly)
ATTACH;FMTTYPE=image/jpeg:https://efcc.ca/wp-content/uploads/2025/11/Dec-Jan-Prayer-guide-banner-2025-2026-724x405px-7.jpg
END:VEVENT
BEGIN:VEVENT
DTSTART;TZID=America/Los_Angeles:20260122T000000
DTEND;TZID=America/Los_Angeles:20260131T235900
DTSTAMP:20260422T055656
CREATED:20251126T163754Z
LAST-MODIFIED:20251126T163917Z
UID:47310-1769040000-1769903940@efcc.ca
SUMMARY:Part 8 - Endings & Beginnings
DESCRIPTION:“For to us a chid is born\, to us a son is given; and the government shall be upon his shoulder\, and his name shall be called Wonderful Counselor\, Mighty God\, Everlasting Father\, Prince of Peace.” (Isaiah 9:6) \n\nWe are now doing video intros for the Prayer Guide! To watch this month’s Prayer intro\, click here. \nLet us pray for all our EFCC Districts Churches/Leaders and ServeCanada/ServeBeyond Missionaries & Agents:\nAlberta Parkland District:\nMeeting Creek EFC \nMillwoods EFC – Noel Dwarika \nStrathcona County EFC – Ken Stumph \nAll the Nations – Dwight Munn \n\nCanadian Pacific District:\nSmithers EFC – Dwayne Goertzen \nSorrento EFC – Timothy Hill \nTerrace EFC – James Clark \n\nCentral District:\nSilver Ridge Bible Chapel – Don Lee \nWinnipeg EFC – Keith Boschman \n\nLower Pacific District:\nVancouver Gospel Home Church – Daniel Daeho Cho \nVancouver Hallelujah – Soo Young Lee \nVRC Church – Alfred Heung Soo Lee \nWhite Rock Community Church – Steve Doerksen \nWildwood Community Church \n\nPrairie District:\nQuill Lake EFC \nSaskatoon Evangelical Free Church – Chris We􀀖stein \nSeven Persons Community Church – Maury McNeil \nSouth Calgary Chinese EFC – Rick Gordon\, Jayson Tam\, & Simon Feng \nTaber EFC – Brad Cowie \n\nServeBeyond/ServeCanada Missionaries & Agents:\n• Jay and Kathy\n• Steven Sharpe\n• Buddy & Devanee Cardinal\n• Siavosh & Sophia
URL:https://efcc.ca/event/endings-and-beginnings-8/
CATEGORIES:Prayer Guide (Monthly)
ATTACH;FMTTYPE=image/jpeg:https://efcc.ca/wp-content/uploads/2025/11/Dec-Jan-Prayer-guide-banner-2025-2026-724x405px-8.jpg
END:VEVENT
END:VCALENDAR