BEGIN:VCALENDAR
VERSION:2.0
PRODID:-//EFCC - ECPv6.15.20//NONSGML v1.0//EN
CALSCALE:GREGORIAN
METHOD:PUBLISH
X-WR-CALNAME:EFCC
X-ORIGINAL-URL:https://efcc.ca
X-WR-CALDESC:Events for EFCC
REFRESH-INTERVAL;VALUE=DURATION:PT1H
X-Robots-Tag:noindex
X-PUBLISHED-TTL:PT1H
BEGIN:VTIMEZONE
TZID:America/Regina
BEGIN:STANDARD
TZOFFSETFROM:-0600
TZOFFSETTO:-0600
TZNAME:CST
DTSTART:20250101T000000
END:STANDARD
END:VTIMEZONE
BEGIN:VEVENT
DTSTART;TZID=America/Regina:20261016T150000
DTEND;TZID=America/Regina:20261017T163000
DTSTAMP:20260421T020728
CREATED:20260414T155251Z
LAST-MODIFIED:20260420T185341Z
UID:49093-1792162800-1792254600@efcc.ca
SUMMARY:PD Conference 2026
DESCRIPTION:When: October 16-17\, 2026 \nWhere: Osler Community Church\, Osler SK \nKeynote Speaker: Dr. Michael Pawelke (President of Briercrest College) \nTo learn more\, go to:
URL:https://efcc.ca/event/pd-conference-2026/
LOCATION:Osler Community Church\, SK\, 625 3rd St\, Osler\, Saskatoon\, S0K 3A0\, Canada
CATEGORIES:District Events
END:VEVENT
END:VCALENDAR