BEGIN:VCALENDAR
VERSION:2.0
PRODID:-//EFCC - ECPv6.15.20//NONSGML v1.0//EN
CALSCALE:GREGORIAN
METHOD:PUBLISH
X-WR-CALNAME:EFCC
X-ORIGINAL-URL:https://efcc.ca
X-WR-CALDESC:Events for EFCC
REFRESH-INTERVAL;VALUE=DURATION:PT1H
X-Robots-Tag:noindex
X-PUBLISHED-TTL:PT1H
BEGIN:VTIMEZONE
TZID:America/Los_Angeles
BEGIN:DAYLIGHT
TZOFFSETFROM:-0800
TZOFFSETTO:-0700
TZNAME:PDT
DTSTART:20250309T100000
END:DAYLIGHT
BEGIN:STANDARD
TZOFFSETFROM:-0700
TZOFFSETTO:-0800
TZNAME:PST
DTSTART:20251102T090000
END:STANDARD
BEGIN:DAYLIGHT
TZOFFSETFROM:-0800
TZOFFSETTO:-0700
TZNAME:PDT
DTSTART:20260308T100000
END:DAYLIGHT
BEGIN:STANDARD
TZOFFSETFROM:-0700
TZOFFSETTO:-0800
TZNAME:PST
DTSTART:20261101T090000
END:STANDARD
BEGIN:DAYLIGHT
TZOFFSETFROM:-0800
TZOFFSETTO:-0700
TZNAME:PDT
DTSTART:20270314T100000
END:DAYLIGHT
BEGIN:STANDARD
TZOFFSETFROM:-0700
TZOFFSETTO:-0800
TZNAME:PST
DTSTART:20271107T090000
END:STANDARD
END:VTIMEZONE
BEGIN:VEVENT
DTSTART;TZID=America/Los_Angeles:20260221T093000
DTEND;TZID=America/Los_Angeles:20260221T120000
DTSTAMP:20260422T015710
CREATED:20250324T160014Z
LAST-MODIFIED:20260211T235202Z
UID:44864-1771666200-1771675200@efcc.ca
SUMMARY:BOD Meeting (In-person)
DESCRIPTION:Chair: Sid Bergsma \nWhen: February 21\, 2026 \nThe EFCC Board of Directors (BOD) manages the affairs and upholds the ministry of the EFCC. The BOD collaborates with the Office of the Executive Director towards setting the vision and policies that govern the EFCC\, and regularly monitors and evaluates the mission\, strategies\, and goals of the EFCC. The BOD is accountable to the general Conference of the EFCC.
URL:https://efcc.ca/event/bod-meeting-in-person/
LOCATION:Fosmark Centre\, Evangelical Free Church of Canada
CATEGORIES:Committee Meetings
END:VEVENT
END:VCALENDAR