BEGIN:VCALENDAR
VERSION:2.0
PRODID:-//EFCC - ECPv6.15.20//NONSGML v1.0//EN
CALSCALE:GREGORIAN
METHOD:PUBLISH
X-ORIGINAL-URL:https://efcc.ca
X-WR-CALDESC:Events for EFCC
REFRESH-INTERVAL;VALUE=DURATION:PT1H
X-Robots-Tag:noindex
X-PUBLISHED-TTL:PT1H
BEGIN:VTIMEZONE
TZID:America/Los_Angeles
BEGIN:DAYLIGHT
TZOFFSETFROM:-0800
TZOFFSETTO:-0700
TZNAME:PDT
DTSTART:20250309T100000
END:DAYLIGHT
BEGIN:STANDARD
TZOFFSETFROM:-0700
TZOFFSETTO:-0800
TZNAME:PST
DTSTART:20251102T090000
END:STANDARD
BEGIN:DAYLIGHT
TZOFFSETFROM:-0800
TZOFFSETTO:-0700
TZNAME:PDT
DTSTART:20260308T100000
END:DAYLIGHT
BEGIN:STANDARD
TZOFFSETFROM:-0700
TZOFFSETTO:-0800
TZNAME:PST
DTSTART:20261101T090000
END:STANDARD
BEGIN:DAYLIGHT
TZOFFSETFROM:-0800
TZOFFSETTO:-0700
TZNAME:PDT
DTSTART:20270314T100000
END:DAYLIGHT
BEGIN:STANDARD
TZOFFSETFROM:-0700
TZOFFSETTO:-0800
TZNAME:PST
DTSTART:20271107T090000
END:STANDARD
END:VTIMEZONE
BEGIN:VEVENT
DTSTART;TZID=America/Los_Angeles:20260204T080000
DTEND;TZID=America/Los_Angeles:20260204T100000
DTSTAMP:20260422T015825
CREATED:20260113T004748Z
LAST-MODIFIED:20260211T235603Z
UID:47676-1770192000-1770199200@efcc.ca
SUMMARY:NomComm Meeting
DESCRIPTION:Nominations Committes Meeting\nWhen: February 4\, 2026 \nWhere: Online (Zoom) \nThe Nominations Committee is the committee responsible for finding people who would be willing to serve on various committees (BOD\, FAC\, IMC\, NMC\, CVC\, and MSC). The NomComm meets up to discuss how much need there is for new committee members\, to discern and discuss potential nominees to fill vacancies\, and to assign NomComm members to the task of reaching out to potential nominees to determine their interest in serving on one of these committees.
URL:https://efcc.ca/event/nomcomm-meeting/
CATEGORIES:Committee Meetings
END:VEVENT
END:VCALENDAR